BEGIN:VCALENDAR
VERSION:2.0
PRODID:-//hacksw/handcal//NONSGML v1.0//EN
BEGIN:VEVENT
SUMMARY:A1 Poule haute LES REDOUBSTABLES vs AUXERRE
UID:a6d3d5d3-f554-40d5-95da-adc6f7ffdd39
DTSTART:20260315T140000Z
DTEND:20260315T230000Z
LOCATION:Localisation   
CATEGORIES:Sportif
STATUS:
URL;VALUE=URI:https://www.lesredoubstables.org/evenements/2026/03/15/a1-poule-haute-les-redoubstables-vs-auxerre-2403960
END:VEVENT
END:VCALENDAR
